BEGIN:VCALENDAR
PRODID:-//eluceo/ical//2.0/EN
VERSION:2.0
CALSCALE:GREGORIAN
BEGIN:VEVENT
UID:580030052c555274f1b5ed38f6f0b142
DTSTAMP:20260421T172139Z
SUMMARY:Cybersecurity
DESCRIPTION:Webbplats: http://www.neuesschloss.com\nTalare: Reimer van der 
 Vlugt\, Sicherheitsberater  
URL:https://rotary-zuerich-au-lac.ch/sv/agenda/show/155733
DTSTART;TZID=Europe/Zurich:20230224T120000
DTEND;TZID=Europe/Zurich:20230224T133000
LOCATION:Neues Schloss Privat Hotel Zürich\, Stockerstr. 17\, 8002 Zürich
CATEGORIES:Rotary
END:VEVENT
BEGIN:VTIMEZONE
TZID:Europe/Zurich
BEGIN:STANDARD
DTSTART:20230224T120000
TZNAME:CET
TZOFFSETTO:+0100
TZOFFSETFROM:+0100
END:STANDARD
END:VTIMEZONE
END:VCALENDAR
