BEGIN:VCALENDAR
PRODID:-//eluceo/ical//2.0/EN
VERSION:2.0
CALSCALE:GREGORIAN
BEGIN:VEVENT
UID:34c7cae825fa619788006dfaecdc4434
DTSTAMP:20260424T201149Z
SUMMARY:Muntigunung
DESCRIPTION:Webbplats: http://www.neuesschloss.com\nTalare: Stefan Hartmann
URL:https://rotary-zuerich-au-lac.ch/sv/agenda/show/154918
DTSTART;TZID=Europe/Zurich:20230127T120000
DTEND;TZID=Europe/Zurich:20230127T133000
LOCATION:Neues Schloss Privat Hotel Zürich\, Stockerstr. 17\, 8002 Zürich
CATEGORIES:Rotary
END:VEVENT
BEGIN:VTIMEZONE
TZID:Europe/Zurich
BEGIN:STANDARD
DTSTART:20230127T120000
TZNAME:CET
TZOFFSETTO:+0100
TZOFFSETFROM:+0100
END:STANDARD
END:VTIMEZONE
END:VCALENDAR
