BEGIN:VCALENDAR
PRODID:-//eluceo/ical//2.0/EN
VERSION:2.0
CALSCALE:GREGORIAN
BEGIN:VEVENT
UID:6d22dae0a91e9ae5fa34c941bdac7e51
DTSTAMP:20260424T203146Z
SUMMARY:Lunch: Wer bin ich?
DESCRIPTION:Webbplats: http://www.neuesschloss.com\nTalare: René Baumann
URL:https://rotary-zuerich-au-lac.ch/sv/agenda/show/151576
DTSTART;TZID=Europe/Zurich:20221230T120000
DTEND;TZID=Europe/Zurich:20221230T133000
LOCATION:Neues Schloss Privat Hotel Zürich\, Stockerstr. 17\, 8002 Zürich
CATEGORIES:Rotary
END:VEVENT
BEGIN:VTIMEZONE
TZID:Europe/Zurich
BEGIN:STANDARD
DTSTART:20221230T120000
TZNAME:CET
TZOFFSETTO:+0100
TZOFFSETFROM:+0100
END:STANDARD
END:VTIMEZONE
END:VCALENDAR
