BEGIN:VCALENDAR
PRODID:-//eluceo/ical//2.0/EN
VERSION:2.0
CALSCALE:GREGORIAN
BEGIN:VEVENT
UID:3bd6f4e55a5f4db8a12b388586db8856
DTSTAMP:20260424T212933Z
SUMMARY:Lunch: Glücksforschung
DESCRIPTION:Webbplats: http://www.neuesschloss.com\nTalare: Daniel Maier\, 
 Theologe Universität Zürich
URL:https://rotary-zuerich-au-lac.ch/sv/agenda/show/151571
DTSTART;TZID=Europe/Zurich:20221202T120000
DTEND;TZID=Europe/Zurich:20221202T133000
LOCATION:Neues Schloss Privat Hotel Zürich\, Stockerstr. 17\, 8002 Zürich
CATEGORIES:Rotary
END:VEVENT
BEGIN:VTIMEZONE
TZID:Europe/Zurich
BEGIN:STANDARD
DTSTART:20221202T120000
TZNAME:CET
TZOFFSETTO:+0100
TZOFFSETFROM:+0100
END:STANDARD
END:VTIMEZONE
END:VCALENDAR
