BEGIN:VCALENDAR
PRODID:-//eluceo/ical//2.0/EN
VERSION:2.0
CALSCALE:GREGORIAN
BEGIN:VEVENT
UID:2148240257671d76ff32df3ace2d106b
DTSTAMP:20260422T224946Z
SUMMARY:Plauderfrühstück
DESCRIPTION:Sito web: http://www.neuesschloss.com
URL:https://rotary-zuerich-au-lac.ch/it/agenda/show/166974
DTSTART;TZID=Europe/Zurich:20231117T070000
DTEND;TZID=Europe/Zurich:20231117T080000
LOCATION:Neues Schloss Privat Hotel Zürich\, Stockerstr. 17\, 8002 Zürich
CATEGORIES:Rotary
END:VEVENT
BEGIN:VTIMEZONE
TZID:Europe/Zurich
BEGIN:STANDARD
DTSTART:20231117T070000
TZNAME:CET
TZOFFSETTO:+0100
TZOFFSETFROM:+0100
END:STANDARD
END:VTIMEZONE
END:VCALENDAR
