BEGIN:VCALENDAR
PRODID:-//eluceo/ical//2.0/EN
VERSION:2.0
CALSCALE:GREGORIAN
BEGIN:VEVENT
UID:3f9a2e3cc659d8885b74ee4f769ab798
DTSTAMP:20260422T225232Z
SUMMARY:Politbetrieb\, Lobbying in Bundesbern and beyond
DESCRIPTION:Sito web: http://www.neuesschloss.com\nRelatore/i: Rob Hartmans
URL:https://rotary-zuerich-au-lac.ch/it/agenda/show/166973
DTSTART;TZID=Europe/Zurich:20231110T120000
DTEND;TZID=Europe/Zurich:20231110T140000
LOCATION:Neues Schloss Privat Hotel Zürich\, Stockerstr. 17\, 8002 Zürich
CATEGORIES:Rotary
END:VEVENT
BEGIN:VTIMEZONE
TZID:Europe/Zurich
BEGIN:STANDARD
DTSTART:20231110T120000
TZNAME:CET
TZOFFSETTO:+0100
TZOFFSETFROM:+0100
END:STANDARD
END:VTIMEZONE
END:VCALENDAR
