BEGIN:VCALENDAR
PRODID:-//eluceo/ical//2.0/EN
VERSION:2.0
CALSCALE:GREGORIAN
BEGIN:VEVENT
UID:cc3feadac26c21e6eaa04915f8fb7408
DTSTAMP:20260423T020021Z
SUMMARY:Sponsoren-Apero\, JOM Architekten (nur Mitglieder)
DESCRIPTION:Sito web: https://jom.ch\nRelatore/i: Philippe Jorisch
URL:https://rotary-zuerich-au-lac.ch/it/agenda/show/166971
DTSTART;TZID=Europe/Zurich:20231027T170000
DTEND;TZID=Europe/Zurich:20231027T190000
LOCATION:anderer Standort\, Auswärtsbesuch\, 8000 Schweiz\, Schweiz
CATEGORIES:Rotary
END:VEVENT
BEGIN:VTIMEZONE
TZID:Europe/Zurich
BEGIN:DAYLIGHT
DTSTART:20231027T170000
TZNAME:CEST
TZOFFSETTO:+0200
TZOFFSETFROM:+0200
END:DAYLIGHT
END:VTIMEZONE
END:VCALENDAR
