BEGIN:VCALENDAR
PRODID:-//eluceo/ical//2.0/EN
VERSION:2.0
CALSCALE:GREGORIAN
BEGIN:VEVENT
UID:c9f9ce1cba1994f3e36374a7243b81d9
DTSTAMP:20260424T144948Z
SUMMARY:Plauderfrühstück
DESCRIPTION:Sito web: http://www.neuesschloss.com
URL:https://rotary-zuerich-au-lac.ch/it/agenda/show/140086
DTSTART;TZID=Europe/Zurich:20220520T070000
DTEND;TZID=Europe/Zurich:20220520T080000
LOCATION:Neues Schloss Privat Hotel Zürich\, Stockerstr. 17\, 8002 Zürich
CATEGORIES:Rotary
END:VEVENT
BEGIN:VTIMEZONE
TZID:Europe/Zurich
BEGIN:DAYLIGHT
DTSTART:20220520T070000
TZNAME:CEST
TZOFFSETTO:+0200
TZOFFSETFROM:+0200
END:DAYLIGHT
END:VTIMEZONE
END:VCALENDAR
