BEGIN:VCALENDAR
PRODID:-//eluceo/ical//2.0/EN
VERSION:2.0
CALSCALE:GREGORIAN
BEGIN:VEVENT
UID:f039e7ca264f91ae182b7882ad8ba83a
DTSTAMP:20260419T190843Z
SUMMARY:Aussergewöhnliche Messinstrumente
DESCRIPTION:Site internet: http://www.neuesschloss.com\nConférencier(s): G
 erd Folkers
URL:https://rotary-zuerich-au-lac.ch/fr/agenda/show/167340
DTSTART;TZID=Europe/Zurich:20231222T120000
DTEND;TZID=Europe/Zurich:20231222T140000
LOCATION:Neues Schloss Privat Hotel Zürich\, Stockerstr. 17\, 8002 Zürich
CATEGORIES:Rotary
END:VEVENT
BEGIN:VTIMEZONE
TZID:Europe/Zurich
BEGIN:STANDARD
DTSTART:20231222T120000
TZNAME:CET
TZOFFSETTO:+0100
TZOFFSETFROM:+0100
END:STANDARD
END:VTIMEZONE
END:VCALENDAR
