BEGIN:VCALENDAR
PRODID:-//eluceo/ical//2.0/EN
VERSION:2.0
CALSCALE:GREGORIAN
BEGIN:VEVENT
UID:7b8a2d16e6cd527e13cd55a006e617c5
DTSTAMP:20260419T133212Z
SUMMARY:20-Jahresjubiläum
DESCRIPTION:Webseite: http://www.orator.ch
URL:https://rotary-zuerich-au-lac.ch/de/agenda/show/167336
DTSTART;TZID=Europe/Zurich:20231201T180000
DTEND;TZID=Europe/Zurich:20231201T230000
LOCATION:anderer Standort\, Auswärtsbesuch\, 8000 Schweiz\, Schweiz
CATEGORIES:Rotary
END:VEVENT
BEGIN:VTIMEZONE
TZID:Europe/Zurich
BEGIN:STANDARD
DTSTART:20231201T180000
TZNAME:CET
TZOFFSETTO:+0100
TZOFFSETFROM:+0100
END:STANDARD
END:VTIMEZONE
END:VCALENDAR
