BEGIN:VCALENDAR
PRODID:-//eluceo/ical//2.0/EN
VERSION:2.0
CALSCALE:GREGORIAN
BEGIN:VEVENT
UID:d4a4d4e1dfee12db9ecce322da346027
DTSTAMP:20260424T013347Z
SUMMARY:Kunstmarkt
DESCRIPTION:Webseite: http://www.neuesschloss.com\nReferenten/innen: Heidi 
 Izzo
URL:https://rotary-zuerich-au-lac.ch/de/agenda/show/158211
DTSTART;TZID=Europe/Zurich:20230512T120000
DTEND;TZID=Europe/Zurich:20230512T133000
LOCATION:Neues Schloss Privat Hotel Zürich\, Stockerstr. 17\, 8002 Zürich
CATEGORIES:Rotary
END:VEVENT
BEGIN:VTIMEZONE
TZID:Europe/Zurich
BEGIN:DAYLIGHT
DTSTART:20230512T120000
TZNAME:CEST
TZOFFSETTO:+0200
TZOFFSETFROM:+0200
END:DAYLIGHT
END:VTIMEZONE
END:VCALENDAR
